BEGIN:VCALENDAR
VERSION:2.0
PRODID:TU Chemnitz
METHOD:PUBLISH
X-WR-CALNAME:Veranstaltungen der TU Chemnitz
X-WR-TIMEZONE:Europe/Berlin
BEGIN:VEVENT
CLASS:PUBLIC
DTSTART;TZID="Europe/Berlin":19991103T170000
DTEND;TZID="Europe/Berlin":19991103T183000
LOCATION:Uni-Teil 3: Reichenhainer Str. 70\, Chemnitz (Zentr. Hörsaal- und Seminargebäude)
SUMMARY:Clifford-Analysis und deren Anwendung auf Randwertaufgaben der mathematischen Physik (Fakultät für Naturwissenschaften\, Institut für Physik)
DESCRIPTION:Physikalisches Kolloquium\nProf. Dr. Wolfgang Sprößig\, TU Bergakademie Freiberg\nProf. Dr. G. Hecht\, Tel. 5318048
ORGANIZER:MAILTO:flei@hrz.tu-chemnitz.de
UID:734@www.tu-chemnitz.de
CREATED:19991006T104300Z
DTSTAMP:20210802T203305Z
END:VEVENT
END:VCALENDAR
