BEGIN:VCALENDAR
VERSION:2.0
PRODID:TU Chemnitz
METHOD:PUBLISH
X-WR-CALNAME:Veranstaltungen der TU Chemnitz
X-WR-TIMEZONE:Europe/Berlin
BEGIN:VEVENT
CLASS:PUBLIC
DTSTART;TZID="Europe/Berlin":20060425T171500
DTEND;TZID="Europe/Berlin":20060425T184500
LOCATION:Wilhelm-Raabe-Str. 43\, Chemnitz
SUMMARY:Institutskolloquium Psychologie (TU Chemnitz\, Differentielle Psychologie und Diagnostik)
DESCRIPTION:"Genetic Analysis and the Impact of Socio-Cultural Factors in Human Evolution"\nProf. Dr. Mark Stoneking\, Max-Planck-Institut Leipzig\nSekretariat\, Tel. 531 6365
ORGANIZER:MAILTO:sabine.dittrich@phil.tu-chemnitz.de
UID:7327@www.tu-chemnitz.de
CREATED:20060419T111500Z
DTSTAMP:20210802T195426Z
END:VEVENT
END:VCALENDAR
