BEGIN:VCALENDAR
VERSION:2.0
PRODID:TU Chemnitz
METHOD:PUBLISH
X-WR-CALNAME:Veranstaltungen der TU Chemnitz
X-WR-TIMEZONE:Europe/Berlin
BEGIN:VEVENT
CLASS:PUBLIC
DTSTART;TZID="Europe/Berlin":20060520T090000
DTEND;TZID="Europe/Berlin":20060521T200000
LOCATION:Str. der Nationen 62\, Chemnitz (Böttcher-Bau)
SUMMARY:Forschungsethik in den Naturwissenschaften (Fakultät für Naturwissenschaften\, Institut für Chemie)
DESCRIPTION:"Sie promovieren hier erst\, nachdem Sie meine Theorie bewiesen haben!"\nsonst noch Fragen oder Anregungen zur guten wissenschaftlichen Praxis?\ndann kommen Sie doch zum Seminar: \nDas Seminar ist begrenzt auf 15 Teilnehmer.\nG. Sponholz & H. Baitsch\, IMOE\, Blaustein bei Ulm\nSekretariat Physikalische Chemie (1/B214) oder e-mail: physchem@chemie.tu-chemnitz.de
ORGANIZER:MAILTO:elke.rahm@chemie.tu-chemnitz.de
UID:7326@www.tu-chemnitz.de
CREATED:20060419T102600Z
DTSTAMP:20210802T195338Z
END:VEVENT
END:VCALENDAR
