BEGIN:VCALENDAR
VERSION:2.0
PRODID:TU Chemnitz
METHOD:PUBLISH
X-WR-CALNAME:Veranstaltungen der TU Chemnitz
X-WR-TIMEZONE:Europe/Berlin
BEGIN:VEVENT
CLASS:PUBLIC
DTSTART;TZID="Europe/Berlin":19991020T170000
DTEND;TZID="Europe/Berlin":19991020T183000
LOCATION:Uni-Teil 3: Reichenhainer Str. 70\, Chemnitz (Zentr. Hörsaal- und Seminargebäude)
SUMMARY:Die Dynamik der Wärme oder wie ich den zweiten Hauptsatz lieben lernte (Fakultät für Naturwissenschaften\, Institut für Physik)
DESCRIPTION:Gemeinsames Kolloquium mit dem Institut für Chemie\nProf. Dr. Hans-Ulrich Fuchs\, Zürcher Hochschule Winterthur\nProf. Häußler\, Tel. 5313140
ORGANIZER:MAILTO:flei@hrz.tu-chemnitz.de
UID:732@www.tu-chemnitz.de
CREATED:19991006T102300Z
DTSTAMP:20210802T203318Z
END:VEVENT
END:VCALENDAR
