BEGIN:VCALENDAR
VERSION:2.0
PRODID:TU Chemnitz
METHOD:PUBLISH
X-WR-CALNAME:Veranstaltungen der TU Chemnitz
X-WR-TIMEZONE:Europe/Berlin
BEGIN:VEVENT
CLASS:PUBLIC
DTSTART;TZID="Europe/Berlin":20060510T190000
DTEND;TZID="Europe/Berlin":20060510T220000
LOCATION:Club der Kulturen
SUMMARY:Sokrates-Club (Internationales Universitätszentrum)
DESCRIPTION:Der Sokrates-Club ergänzt das Info-Programm des IUZ zum Thema Auslandssemester um praktische Infos\, Tips und Antworten von Studenten\, die schon "vor Ort" waren. Heute: Tschechien\, Slowakei\, Ungarn\, Slowenien\, Bulgarien\, Rumänien\, Polen. Mit Büffet.
ORGANIZER:MAILTO:sokrates-club@tu-chemnitz.de
UID:7317@www.tu-chemnitz.de
CREATED:20060417T145700Z
DTSTAMP:20210802T195336Z
END:VEVENT
END:VCALENDAR
