BEGIN:VCALENDAR
VERSION:2.0
PRODID:TU Chemnitz
METHOD:PUBLISH
X-WR-CALNAME:Veranstaltungen der TU Chemnitz
X-WR-TIMEZONE:Europe/Berlin
BEGIN:VEVENT
CLASS:PUBLIC
DTSTART;TZID="Europe/Berlin":19991022T193000
DTEND;TZID="Europe/Berlin":19991022T193000
LOCATION:Renaissance Chemnitz Hotel
SUMMARY:Machen Computer abhängig - uneingeschränkte Mobilität durch die Mikroelektronik? (TU Chemnitz\, Stadt Chemnitz)
DESCRIPTION:Vortrag im Rahmen der "Begegnungen im osten"\, chemnitzer kulturfestival 2. bis 17. Oktober 1999\n\nProf. Dr. Thomas Geßner und Prof. Dr. Dietmar Müller\, TU Chemnitz\nFestivalbüro
ORGANIZER:MAILTO:iroe@hrz.tu-chemnitz.de
UID:730@www.tu-chemnitz.de
CREATED:19991005T131800Z
DTSTAMP:20210802T203316Z
END:VEVENT
END:VCALENDAR
