BEGIN:VCALENDAR
VERSION:2.0
PRODID:TU Chemnitz
METHOD:PUBLISH
X-WR-CALNAME:Veranstaltungen der TU Chemnitz
X-WR-TIMEZONE:Europe/Berlin
BEGIN:VEVENT
CLASS:PUBLIC
DTSTART;TZID="Europe/Berlin":20060623T140000
DTEND;TZID="Europe/Berlin":20060623T140000
LOCATION:Str. der Nationen 62\, Chemnitz (Böttcher-Bau)
SUMMARY:Promotion (Fakultät für Maschinenbau)
DESCRIPTION:Ein viskoplastisches Materialmodell mit nichtquadratischer Fließfunktion\nDipl.-Ing. Sonja Panhans
ORGANIZER:MAILTO:kerstin.hensel@mb.tu-chemnitz.de
UID:7282@www.tu-chemnitz.de
CREATED:20060407T110800Z
DTSTAMP:20210802T195318Z
END:VEVENT
END:VCALENDAR
