BEGIN:VCALENDAR
VERSION:2.0
PRODID:TU Chemnitz
METHOD:PUBLISH
X-WR-CALNAME:Veranstaltungen der TU Chemnitz
X-WR-TIMEZONE:Europe/Berlin
BEGIN:VEVENT
CLASS:PUBLIC
DTSTART;TZID="Europe/Berlin":20060404T200000
DTEND;TZID="Europe/Berlin":20060404T235900
LOCATION:Vettersstr. 52/54\, Chemnitz (Studentenwohnheim)
SUMMARY:Einweihungsparty (Studentenclub 7. Etage)
DESCRIPTION:fällt leider aus\, da wir noch kräftig am bauen sind.\nwindKanal e.V.
ORGANIZER:MAILTO:welz@hrz.tu-chemnitz.de
UID:7277@www.tu-chemnitz.de
CREATED:20060404T202900Z
DTSTAMP:20210802T195422Z
END:VEVENT
END:VCALENDAR
