BEGIN:VCALENDAR
VERSION:2.0
PRODID:TU Chemnitz
METHOD:PUBLISH
X-WR-CALNAME:Veranstaltungen der TU Chemnitz
X-WR-TIMEZONE:Europe/Berlin
BEGIN:VEVENT
CLASS:PUBLIC
DTSTART;TZID="Europe/Berlin":20060404T210000
DTEND;TZID="Europe/Berlin":20060404T230000
LOCATION:Kino\, Reichenhainer Str. 35/37\, Keller
SUMMARY:[Kino * "mittendrin"] Garden State (Filmclub »mittendrin«)
DESCRIPTION:Klingt nach Primelzucht und Übertopf-Ausverkauf\, aber diese skurril-schräge Low-Budget-Produktion von Zach Braff ("Scrubs")\, ist überhaupt nicht bieder und hat das Zeug zum Kultfilm. Natalie Portman als lebenskluge Göre ist grandios.
ORGANIZER:MAILTO:schneide@hrz.tu-chemnitz.de
UID:7268@www.tu-chemnitz.de
CREATED:20060403T143200Z
DTSTAMP:20210802T195426Z
END:VEVENT
END:VCALENDAR
