BEGIN:VCALENDAR
VERSION:2.0
PRODID:TU Chemnitz
METHOD:PUBLISH
X-WR-CALNAME:Veranstaltungen der TU Chemnitz
X-WR-TIMEZONE:Europe/Berlin
BEGIN:VEVENT
CLASS:PUBLIC
DTSTART;TZID="Europe/Berlin":20060405T210000
DTEND;TZID="Europe/Berlin":20060405T235900
LOCATION:Club der Kulturen
SUMMARY:"Bachelor in 3 Stunden" oder "Solche werden ernst?" (Fachschaftsrat der Philosophischen Fakultät)
DESCRIPTION:"Hausgemachter Deutschrock mit einer Prise Sarkasmus\, dem Ganzen wird eine Menge Spass untergehoben ..."\n\nSo leitet der FSR-Phil.Fak. das neue hoch-kulturelle Semester ein. \n\nEintritt: Studenten 1€ Nichtstudenten 2€
ORGANIZER:MAILTO:gich@hrz.tu-chemnitz.de
UID:7262@www.tu-chemnitz.de
CREATED:20060329T192100Z
DTSTAMP:20210802T195426Z
END:VEVENT
END:VCALENDAR
