BEGIN:VCALENDAR
VERSION:2.0
PRODID:TU Chemnitz
METHOD:PUBLISH
X-WR-CALNAME:Veranstaltungen der TU Chemnitz
X-WR-TIMEZONE:Europe/Berlin
BEGIN:VEVENT
CLASS:PUBLIC
DTSTART;TZID="Europe/Berlin":20060401T210000
DTEND;TZID="Europe/Berlin":20060401T210000
LOCATION:Bunker-Club * Rosenplatz 7 * gleich am Campus
SUMMARY:Live: OHRBOTEN - Spieltrieb Tour 2006
DESCRIPTION:Ein heißer Tipp an alle\, die eine Band erleben wollen\, die sich bewusst nicht in eine Schublade stecken lässt.\n"Gyp Hop" haben sie ihren ungewöhnlichen Mix mal bezeichnet - eine Mischung aus Jazz\, Metal\, Reggae\, Ragga und HipHop ...\n* doors 21.00 *
ORGANIZER:MAILTO:schneide@hrz.tu-chemnitz.de
UID:7260@www.tu-chemnitz.de
CREATED:20060329T170900Z
DTSTAMP:20210802T195418Z
END:VEVENT
END:VCALENDAR
