BEGIN:VCALENDAR
VERSION:2.0
PRODID:TU Chemnitz
METHOD:PUBLISH
X-WR-CALNAME:Veranstaltungen der TU Chemnitz
X-WR-TIMEZONE:Europe/Berlin
BEGIN:VEVENT
CLASS:PUBLIC
DTSTART;TZID="Europe/Berlin":20060330T210000
DTEND;TZID="Europe/Berlin":20060330T230000
LOCATION:Kino\, Reichenhainer Str. 35/37\, Keller
SUMMARY:[Kino * "mittendrin"] München (Filmclub »mittendrin«)
DESCRIPTION:Auge um Auge\, Zahn um Zahn. Den Kampf zwischen Israelis und Palästinensern vor biblischem Zusammenhang stellt Steven Spielberg in das Zentrum von "München".\nHier trifft Zeitgeschichte auf Hollywooddramaturgie\, Ideologie auf Politik\, Moral auf Mord...
ORGANIZER:MAILTO:schneide@hrz.tu-chemnitz.de
UID:7259@www.tu-chemnitz.de
CREATED:20060329T170200Z
DTSTAMP:20210802T195455Z
END:VEVENT
END:VCALENDAR
