BEGIN:VCALENDAR
VERSION:2.0
PRODID:TU Chemnitz
METHOD:PUBLISH
X-WR-CALNAME:Veranstaltungen der TU Chemnitz
X-WR-TIMEZONE:Europe/Berlin
BEGIN:VEVENT
CLASS:PUBLIC
DTSTART;TZID="Europe/Berlin":20060403T153000
DTEND;TZID="Europe/Berlin":20060406T200000
LOCATION:Hotel Chemnitzer Hof\, Theaterplatz 4\, 09111 Chemnitz
SUMMARY:Sachsen. Geschichte\, Kultur\, Politik (Philosophische Fakultät\, Professur für Europäische Geschichte des 19. und 20. Jahrhunderts)
DESCRIPTION:Im Rahmen der Tagung soll den Teilnehmern ein Einblick in die nahezu tausendjährige sächsische Geschichte gegeben werden. Eingeschlossen sind dabei zwei Exkursionen nach Meißen und Dresden am 4. bzw. 6. April.\nDr. Hendrik Thoß\, hendrik.thoss@phil.tu-chemnitz.de
ORGANIZER:MAILTO:hendrik.thoss@phil.tu-chemnitz.de
UID:7254@www.tu-chemnitz.de
CREATED:20060328T162500Z
DTSTAMP:20210802T195424Z
END:VEVENT
END:VCALENDAR
