BEGIN:VCALENDAR
VERSION:2.0
PRODID:TU Chemnitz
METHOD:PUBLISH
X-WR-CALNAME:Veranstaltungen der TU Chemnitz
X-WR-TIMEZONE:Europe/Berlin
BEGIN:VEVENT
CLASS:PUBLIC
DTSTART;TZID="Europe/Berlin":20060419T210000
DTEND;TZID="Europe/Berlin":20060420T030000
LOCATION:Reichenhainer Str. 55\, Chemnitz (Mensa)
SUMMARY:Moonlightdancing-AUFTAKTPARTY (Moonlightdancing)
DESCRIPTION:Die Moonlightdancing-Auftaktparty. Live Musik von "Hund am Strand"\, "Beautiful Friday" und dem Prager HipHop-"Star" Pavel Cholinski. Außerdem ein Ragga&Dancehallfloor mit Swen Sieg (sensimovement) sowie Black Music mit DJ Xian (moonlightdancing). ROCKEN!\nMoonlightdancing\ninfo@moonlightdancing.de
ORGANIZER:MAILTO:andreas.david@s1998.tu-chemnitz.de
UID:7245@www.tu-chemnitz.de
CREATED:20060322T193900Z
DTSTAMP:20210802T195420Z
END:VEVENT
END:VCALENDAR
