BEGIN:VCALENDAR
VERSION:2.0
PRODID:TU Chemnitz
METHOD:PUBLISH
X-WR-CALNAME:Veranstaltungen der TU Chemnitz
X-WR-TIMEZONE:Europe/Berlin
BEGIN:VEVENT
CLASS:PUBLIC
DTSTART;TZID="Europe/Berlin":20060614T171500
DTEND;TZID="Europe/Berlin":20060614T184500
LOCATION:Reichenhainer Str. 90\, Chemnitz (Zentr. Hörsaal- und Seminargebäude)
SUMMARY:Physikalisches Kolloquium: "Improved Organic Thin Film Transistors Using Novel Self-Assembled Monolayers" (Fakultät für Naturwissenschaften\, Institut für Physik)
DESCRIPTION:Gemeinsames Kolloquium mit dem Institut für Chemie\nProf. Dr. Ian Hill; Dalhousie University\, Department of Physics and Atmospheric\nProf. Dr. Dietrich R.T. Zahn; Tel: 531-3036
ORGANIZER:MAILTO:michaela.knierim@physik.tu-chemnitz.de
UID:7232@www.tu-chemnitz.de
CREATED:20060321T152600Z
DTSTAMP:20210802T195321Z
END:VEVENT
END:VCALENDAR
