BEGIN:VCALENDAR
VERSION:2.0
PRODID:TU Chemnitz
METHOD:PUBLISH
X-WR-CALNAME:Veranstaltungen der TU Chemnitz
X-WR-TIMEZONE:Europe/Berlin
BEGIN:VEVENT
CLASS:PUBLIC
DTSTART;TZID="Europe/Berlin":20060615T200000
DTEND;TZID="Europe/Berlin":20060615T220000
LOCATION:Stadthalle Chemnitz\, Großer Saal
SUMMARY:Eröffnungskonzert des 7. Europäischen Orchestertreffens in Chemnitz (Collegium musicum der TU Chemnitz)
DESCRIPTION:Das Collegium musicum spielt die "Unvollendete" von F. Schubert in einem Gemeinschaftskonzert mit dem Sächsischen Sinfonieorchester Chemnitz e.V.
ORGANIZER:MAILTO:Matthias.Ehrig@hrz.tu-chemnitz.de
UID:7222@www.tu-chemnitz.de
CREATED:20060320T162400Z
DTSTAMP:20210802T195320Z
END:VEVENT
END:VCALENDAR
