BEGIN:VCALENDAR
VERSION:2.0
PRODID:TU Chemnitz
METHOD:PUBLISH
X-WR-CALNAME:Veranstaltungen der TU Chemnitz
X-WR-TIMEZONE:Europe/Berlin
BEGIN:VEVENT
CLASS:PUBLIC
DTSTART;TZID="Europe/Berlin":20060406T200000
DTEND;TZID="Europe/Berlin":20060406T220000
LOCATION:Str. der Nationen 62\, Chemnitz (Böttcher-Bau)
SUMMARY:AgricolaFORUM: Reden ist besser als Krieg führen. Nikolaus von Kues über den Dialog der Religionen. (TU Chemnitz)
DESCRIPTION:Im Kontext der aktuellen Fragen nach interreligiösem und interkulturellem Dialog gewinnt die von Nikolaus von Kues (1401-1464) verfaßte Schrift „Vom Frieden im Glauben“ neue Aufmerksamkeit - dies besonders ob ihres philosophisch-theologischen Niveaus.\nDr. Hildegard Gosebrink\, München\nhttp://www.agricolaforum.de
ORGANIZER:MAILTO:friedrich.naumann@phil.tu-chemnitz.de
UID:7218@www.tu-chemnitz.de
CREATED:20060320T143200Z
DTSTAMP:20210802T195428Z
END:VEVENT
END:VCALENDAR
