BEGIN:VCALENDAR
VERSION:2.0
PRODID:TU Chemnitz
METHOD:PUBLISH
X-WR-CALNAME:Veranstaltungen der TU Chemnitz
X-WR-TIMEZONE:Europe/Berlin
BEGIN:VEVENT
CLASS:PUBLIC
DTSTART;TZID="Europe/Berlin":20060614T163000
DTEND;TZID="Europe/Berlin":20060614T180000
LOCATION:Bahnhofstr. 8\, Chemnitz (Int. Begegnungs- und Informationszentrum)
SUMMARY:Das Patentinformationszentrum der TU Chemnitz (Universitätsbibliothek\, Patentinformationszentrum)
DESCRIPTION:Petra Zimmermann
ORGANIZER:MAILTO:angela.malz@bibliothek.tu-chemnitz.de
UID:7194@www.tu-chemnitz.de
CREATED:20060309T092000Z
DTSTAMP:20210802T195318Z
END:VEVENT
END:VCALENDAR
