BEGIN:VCALENDAR
VERSION:2.0
PRODID:TU Chemnitz
METHOD:PUBLISH
X-WR-CALNAME:Veranstaltungen der TU Chemnitz
X-WR-TIMEZONE:Europe/Berlin
BEGIN:VEVENT
CLASS:PUBLIC
DTSTART;TZID="Europe/Berlin":20060302T201500
DTEND;TZID="Europe/Berlin":20060302T201500
LOCATION:Thalia Café Bar\, Thalia-Buchhandlung Galerie Roter Turm\, Neumarkt 2\, 09111 Chemnitz
SUMMARY:Nochmal davongekommen. Alltag in der Region Chemnitz-Rochlitz-Zwickau. 1939-1949 ( Buchpräsentation) (Arbeitsgruppe Chemnitzer Friedenstag)
DESCRIPTION:5. März 1945 - die Bombennacht in Chemnitz. Der Krieg\, der von Deutschland ausgegangen ist\, kehrt an den Ursprung zurück.\n26 Autoren\, darunter ein ehem. Zwangsarbeiter aus Tschechien und ein ehem. US-Soldat berichten in diesem Buch über ihre Erinnerungen.\nModeration: Dr. Andreas Eichler\nThalia Buchhandlung Chemnitz\,Tel.: 666159 | Eintritt frei
ORGANIZER:MAILTO:tki@hrz.tu-chemnitz.de
UID:7179@www.tu-chemnitz.de
CREATED:20060228T103800Z
DTSTAMP:20210802T195454Z
END:VEVENT
END:VCALENDAR
