BEGIN:VCALENDAR
VERSION:2.0
PRODID:TU Chemnitz
METHOD:PUBLISH
X-WR-CALNAME:Veranstaltungen der TU Chemnitz
X-WR-TIMEZONE:Europe/Berlin
BEGIN:VEVENT
CLASS:PUBLIC
DTSTART;TZID="Europe/Berlin":20060225T150000
DTEND;TZID="Europe/Berlin":20060225T180000
LOCATION:Reichenhainer Str. 55\, Chemnitz (Mensa)
SUMMARY:Bundesligakonferenz im TaC
DESCRIPTION:alle sieben Samstagsspiele auf Großleinwand in Konferenz
ORGANIZER:MAILTO:mamat@hrz.tu-chemnitz.de
UID:7174@www.tu-chemnitz.de
CREATED:20060224T165700Z
DTSTAMP:20210802T195500Z
END:VEVENT
END:VCALENDAR
