BEGIN:VCALENDAR
VERSION:2.0
PRODID:TU Chemnitz
METHOD:PUBLISH
X-WR-CALNAME:Veranstaltungen der TU Chemnitz
X-WR-TIMEZONE:Europe/Berlin
BEGIN:VEVENT
CLASS:PUBLIC
DTSTART;TZID="Europe/Berlin":20060224T210000
DTEND;TZID="Europe/Berlin":20060224T235900
LOCATION:Bunker-Club * Rosenplatz 7 * gleich am Campus
SUMMARY:Live: SURFAHOLICS + RODRIQUES
DESCRIPTION:Die SURFAHOLICS sind Österreichs Punkrock'n'Roll Export Nr.1 ...\nRODRIQUES zelebrieren Kick-Ass-Punkrock mit fettem Rock´n´Roll- Einfluss in Reinkultur.\ndoors: 21.00
ORGANIZER:MAILTO:schneide@hrz.tu-chemnitz.de
UID:7172@www.tu-chemnitz.de
CREATED:20060224T123200Z
DTSTAMP:20210802T195505Z
END:VEVENT
END:VCALENDAR
