BEGIN:VCALENDAR
VERSION:2.0
PRODID:TU Chemnitz
METHOD:PUBLISH
X-WR-CALNAME:Veranstaltungen der TU Chemnitz
X-WR-TIMEZONE:Europe/Berlin
BEGIN:VEVENT
CLASS:PUBLIC
DTSTART;TZID="Europe/Berlin":19991020T090000
DTEND;TZID="Europe/Berlin":19991020T103000
LOCATION:Uni-Teil 3: Reichenhainer Str. 70\, Chemnitz (Weinhold-Bau)
SUMMARY:Seminar "Systemwissenschaften" - Adaptiver Fuzzy Pattern Attraktor Regler (TU Chemnitz\, Professur für Systemtheorie)
DESCRIPTION:Wesentliche Punkte des Vortrages:\n- Fuzzy Pattern Reglerentwurf\n- Adaption eines Fuzzy Pattern Attraktor Reglers\n- Praktische Anwendung eines Fuzzy Pattern Attraktor Reglers\nHerr Dipl.-Ing. Ognian Kabranov
ORGANIZER:MAILTO:mipa@hrz.tu-chemnitz.de
UID:717@www.tu-chemnitz.de
CREATED:19990928T114700Z
DTSTAMP:20210802T203319Z
END:VEVENT
END:VCALENDAR
