BEGIN:VCALENDAR
VERSION:2.0
PRODID:TU Chemnitz
METHOD:PUBLISH
X-WR-CALNAME:Veranstaltungen der TU Chemnitz
X-WR-TIMEZONE:Europe/Berlin
BEGIN:VEVENT
CLASS:PUBLIC
DTSTART;TZID="Europe/Berlin":20060308T134500
DTEND;TZID="Europe/Berlin":20060308T151500
LOCATION:Reichenhainer Str. 70\, Chemnitz (Rühlmann-Bau)
SUMMARY:Nutzerforum des URZ: "Elektronische Semesterapparate (ESEM)" (Universitätsrechenzentrum)
DESCRIPTION:Besonders für alle Durchführenden von Lehrveranstaltungen\, die digitale Materialien bereitstellen wollen!\nDipl.-Inf. H. Trapp\, Dipl.-Bibl. (FH) M. Beese
ORGANIZER:MAILTO:rosita.pudlat@hrz.tu-chemnitz.de
UID:7161@www.tu-chemnitz.de
CREATED:20060221T120300Z
DTSTAMP:20210802T195451Z
END:VEVENT
END:VCALENDAR
