BEGIN:VCALENDAR
VERSION:2.0
PRODID:TU Chemnitz
METHOD:PUBLISH
X-WR-CALNAME:Veranstaltungen der TU Chemnitz
X-WR-TIMEZONE:Europe/Berlin
BEGIN:VEVENT
CLASS:PUBLIC
DTSTART;TZID="Europe/Berlin":20000127T160000
DTEND;TZID="Europe/Berlin":20000127T180000
LOCATION:Uni-Teil 1: Str. der Nationen 62\, Chemnitz (Böttcher-Bau)
SUMMARY:Großer Spaß mit kleinen Ringen - wissenschaftliche Neugier und ernstes Geschäft (Fakultät für Naturwissenschaften\, Institut für Chemie gemeinsam mit dem Ortsverband Chemnitz der GDCh)
DESCRIPTION:Herr Prof. Dr. Armin de Meijere\, Georg-August-Universität Göttingen\nProf. Dr. K. Banert\, Telefon: (0371) 531 1463\, Fax: (0371) 531 1839 \, klaus.banert@chemie.tu-chemnitz.de
ORGANIZER:MAILTO:erah@hrz.tu-chemnitz.de
UID:716@www.tu-chemnitz.de
CREATED:19990922T142200Z
DTSTAMP:20210802T203232Z
END:VEVENT
END:VCALENDAR
