BEGIN:VCALENDAR
VERSION:2.0
PRODID:TU Chemnitz
METHOD:PUBLISH
X-WR-CALNAME:Veranstaltungen der TU Chemnitz
X-WR-TIMEZONE:Europe/Berlin
BEGIN:VEVENT
CLASS:PUBLIC
DTSTART;TZID="Europe/Berlin":20060219T200000
DTEND;TZID="Europe/Berlin":20060219T200000
LOCATION:Chemnitzer Kabarett\, Markthalle
SUMMARY:Buchpremiere mit Musik: Solche Geschichten
DESCRIPTION:Der Liedermacherakustikrock der Kapelle "SOLCHE" wird heute von zahlreichen Gastmusikern bereichert.\nEin außergewöhnliches Set zur Premierenfeier des Buches "Solche Geschichten".\nTexte für den Kopf\, Musik fürs Tanzbein.
ORGANIZER:MAILTO:lutzifer@solche.de
UID:7154@www.tu-chemnitz.de
CREATED:20060216T140200Z
DTSTAMP:20210802T195506Z
END:VEVENT
END:VCALENDAR
