BEGIN:VCALENDAR
VERSION:2.0
PRODID:TU Chemnitz
METHOD:PUBLISH
X-WR-CALNAME:Veranstaltungen der TU Chemnitz
X-WR-TIMEZONE:Europe/Berlin
BEGIN:VEVENT
CLASS:PUBLIC
DTSTART;TZID="Europe/Berlin":20060330T130000
DTEND;TZID="Europe/Berlin":20060330T130000
LOCATION:Reichenhainer Str. 70\, Chemnitz (Rühlmann-Bau)
SUMMARY:Promotion (Fakultät für Maschinenbau)
DESCRIPTION:Systematische Untersuchung der Einflüsse von Temperaturdifferenzen auf den Reaktionsablauf in Rohrreaktoren\nFrau M. Sc. Jingyan Wu
ORGANIZER:MAILTO:kerstin.hensel@mb.tu-chemnitz.de
UID:7135@www.tu-chemnitz.de
CREATED:20060210T102300Z
DTSTAMP:20210802T195453Z
END:VEVENT
END:VCALENDAR
