BEGIN:VCALENDAR
VERSION:2.0
PRODID:TU Chemnitz
METHOD:PUBLISH
X-WR-CALNAME:Veranstaltungen der TU Chemnitz
X-WR-TIMEZONE:Europe/Berlin
BEGIN:VEVENT
CLASS:PUBLIC
DTSTART;TZID="Europe/Berlin":20060208T190000
DTEND;TZID="Europe/Berlin":20060208T230000
LOCATION:Reichenhainer Str. 55\, Chemnitz (Mensa)
SUMMARY:Tischtennismeisterschaft und Bundesliga (TaC)
DESCRIPTION:Trotz Havarie in der Mensa wird die Tischtennismeisterschaft stattfinden.\nFussball wird ebenfalls übertragen.\nAlso meldet Euch rechtzeitig zum Turnier an.\nAnmeldung an der TaC-Bar
ORGANIZER:MAILTO:elix@hrz.tu-chemnitz.de
UID:7129@www.tu-chemnitz.de
CREATED:20060208T141000Z
DTSTAMP:20210802T195503Z
END:VEVENT
END:VCALENDAR
