BEGIN:VCALENDAR
VERSION:2.0
PRODID:TU Chemnitz
METHOD:PUBLISH
X-WR-CALNAME:Veranstaltungen der TU Chemnitz
X-WR-TIMEZONE:Europe/Berlin
BEGIN:VEVENT
CLASS:PUBLIC
DTSTART;TZID="Europe/Berlin":20060518T160000
DTEND;TZID="Europe/Berlin":20060518T180000
LOCATION:Str. der Nationen 62\, Chemnitz (Böttcher-Bau)
SUMMARY:Nanoscale design for the synthesis of catalysts and other functional solids (Fakultät für Naturwissenschaften\, Institut für Chemie gemeinsam mit dem Ortsverband Chemnitz der Gesellschaft Deutscher Chemiker)
DESCRIPTION:Prof. Dr. Ferdi Schüth\, Max-Planck-Institut für Kohlenforschung\, Mülheim\nProf. Dr. R. Holze\, Technische Universität Chemnitz\, fon: 0371 531 1509\, e-mail: rudolf.holze@chemie.tu-chemnitz.de
ORGANIZER:MAILTO:elke.rahm@chemie.tu-chemnitz.de
UID:7123@www.tu-chemnitz.de
CREATED:20060207T105900Z
DTSTAMP:20210802T195334Z
END:VEVENT
END:VCALENDAR
