BEGIN:VCALENDAR
VERSION:2.0
PRODID:TU Chemnitz
METHOD:PUBLISH
X-WR-CALNAME:Veranstaltungen der TU Chemnitz
X-WR-TIMEZONE:Europe/Berlin
BEGIN:VEVENT
CLASS:PUBLIC
DTSTART;TZID="Europe/Berlin":20060201T200000
DTEND;TZID="Europe/Berlin":20060201T220000
LOCATION:Reichenhainer Str. 55\, Chemnitz (Mensa)
SUMMARY:Olaf Schubert - Boykott
DESCRIPTION:Olaf Schubert und Freunde kehren mit neuem Programm in die Mensa ein. Begrenzte Restkarten an der Abendkasse.
ORGANIZER:MAILTO:c.piek@web.de
UID:7104@www.tu-chemnitz.de
CREATED:20060201T122200Z
DTSTAMP:20210802T195507Z
END:VEVENT
END:VCALENDAR
