BEGIN:VCALENDAR
VERSION:2.0
PRODID:TU Chemnitz
METHOD:PUBLISH
X-WR-CALNAME:Veranstaltungen der TU Chemnitz
X-WR-TIMEZONE:Europe/Berlin
BEGIN:VEVENT
CLASS:PUBLIC
DTSTART;TZID="Europe/Berlin":20070131T173000
DTEND;TZID="Europe/Berlin":20070131T190000
LOCATION:Str. der Nationen 62\, Chemnitz (Böttcher-Bau)
SUMMARY:Vortragsreihe Medizin im Spannungsfeld zwischen Wissenschaft und Gesellschaft: "Inwieweit darf sich der herzkranke Patient belasten?" (TU Chemnitz\, Klinikum Chemnitz gGmbH)
DESCRIPTION:Dr. med. Axel Müller\, Oberarzt der Klinik für Innere Medizin I\, Klinikum Chemnitz\nProf. Dr. med. habil. Johannes Schweizer\, Tel. 0371/333 42500\, j.schweizer@skc.de
ORGANIZER:MAILTO:iroe@hrz.tu-chemnitz.de
UID:7095@www.tu-chemnitz.de
CREATED:20060125T144400Z
DTSTAMP:20210802T195112Z
END:VEVENT
END:VCALENDAR
