BEGIN:VCALENDAR
VERSION:2.0
PRODID:TU Chemnitz
METHOD:PUBLISH
X-WR-CALNAME:Veranstaltungen der TU Chemnitz
X-WR-TIMEZONE:Europe/Berlin
BEGIN:VEVENT
CLASS:PUBLIC
DTSTART;TZID="Europe/Berlin":20060426T173000
DTEND;TZID="Europe/Berlin":20060426T173000
LOCATION:Str. der Nationen 62\, Chemnitz (Böttcher-Bau)
SUMMARY:Vortragsreihe Medizin im Spannungsfeld zwischen Wissenschaft und Gesellschaft: "Probleme der Endoprothesenlockerung bei Patienten mit künstlichem Gelenkersatz" (TU Chemnitz\, Klinikum Chemnitz gGmbH)
DESCRIPTION:PD Dr. med. habil. Michael Wagner\, Chefarzt der Klinik für Orthopädie\, Zeisigwaldkliniken Bethanien Chemnitz\nProf. Dr. med. habil. Johannes Schweizer\, Tel. 0371/333 42500\, j.schweizer@skc.de
ORGANIZER:MAILTO:iroe@hrz.tu-chemnitz.de
UID:7089@www.tu-chemnitz.de
CREATED:20060125T141300Z
DTSTAMP:20210802T195429Z
END:VEVENT
END:VCALENDAR
