BEGIN:VCALENDAR
VERSION:2.0
PRODID:TU Chemnitz
METHOD:PUBLISH
X-WR-CALNAME:Veranstaltungen der TU Chemnitz
X-WR-TIMEZONE:Europe/Berlin
BEGIN:VEVENT
CLASS:PUBLIC
DTSTART;TZID="Europe/Berlin":20060329T173000
DTEND;TZID="Europe/Berlin":20060329T173000
LOCATION:Str. der Nationen 62\, Chemnitz (Böttcher-Bau)
SUMMARY:Vortragsreihe Medizin im Spannungsfeld zwischen Wissenschaft und Gesellschaft: "Neue Behandlungsmöglichkeiten in der Radioonkologie" (TU Chemnitz\, Klinikum Chemnitz gGmbH)
DESCRIPTION:Dr. med. Dieter Baaske\, Chefarzt der Klinik für Radioonkologie\, Klinikum Chemnitz\nProf. Dr. med.habil. Johannes Schweizer\, Tel. 0371/333 42500\, j.schweizer@skc.de
ORGANIZER:MAILTO:iroe@hrz.tu-chemnitz.de
UID:7088@www.tu-chemnitz.de
CREATED:20060125T140600Z
DTSTAMP:20210802T195456Z
END:VEVENT
END:VCALENDAR
