BEGIN:VCALENDAR
VERSION:2.0
PRODID:TU Chemnitz
METHOD:PUBLISH
X-WR-CALNAME:Veranstaltungen der TU Chemnitz
X-WR-TIMEZONE:Europe/Berlin
BEGIN:VEVENT
CLASS:PUBLIC
DTSTART;TZID="Europe/Berlin":20060126T134500
DTEND;TZID="Europe/Berlin":20060126T151500
LOCATION:Str. der Nationen 62\, Chemnitz (Böttcher-Bau)
SUMMARY:Informatik-Kolloquium: Enterprise Dynamics - ein Programmtool zur Modellierung\, Simulation\, Visualisierung und Steuerung von Prozessen (Fakultät für Informatik\, Professur Modellierung und Simulation)
DESCRIPTION:- Vorstellung des Unternehmens Incontrol ED \n- Was ist Simulation? Einsatzgebiete/Einsatzgrenzen. \n- Vorteile bietet der Einsatz von Simulationswerkzeugen? \n- ...\nHerr Dr.-Ing. Holger Pitsch
ORGANIZER:MAILTO:dekanat@informatik.tu-chemnitz.de
UID:7087@www.tu-chemnitz.de
CREATED:20060125T121500Z
DTSTAMP:20210802T195528Z
END:VEVENT
END:VCALENDAR
