BEGIN:VCALENDAR
VERSION:2.0
PRODID:TU Chemnitz
METHOD:PUBLISH
X-WR-CALNAME:Veranstaltungen der TU Chemnitz
X-WR-TIMEZONE:Europe/Berlin
BEGIN:VEVENT
CLASS:PUBLIC
DTSTART;TZID="Europe/Berlin":20060201T153000
DTEND;TZID="Europe/Berlin":20060201T170000
LOCATION:Reichenhainer Str. 39\, Chemnitz
SUMMARY:Linguistisches Kolloquium - Englische Sprachwissenschaft (Philosophische Fakultät\, Englische Sprachwissenschaft)
DESCRIPTION:The presentation will focus on teaching \nEnglish for Academic Purposes (EAP)\nin Russia and Eastern Europe\, thus it combines \nquestions of methodology with intercultural aspects.\nLyudmila Kuznetsova (Uni St. Peterburg)
ORGANIZER:MAILTO:christoph.haase@phil.tu-chemnitz.de
UID:7086@www.tu-chemnitz.de
CREATED:20060125T110800Z
DTSTAMP:20210802T195504Z
END:VEVENT
END:VCALENDAR
