BEGIN:VCALENDAR
VERSION:2.0
PRODID:TU Chemnitz
METHOD:PUBLISH
X-WR-CALNAME:Veranstaltungen der TU Chemnitz
X-WR-TIMEZONE:Europe/Berlin
BEGIN:VEVENT
CLASS:PUBLIC
DTSTART;TZID="Europe/Berlin":20060319T100000
DTEND;TZID="Europe/Berlin":20060319T160000
LOCATION:Spielhalle im Chemnitzer Sportforum (Reichenhainer Str.)
SUMMARY:Hallenfussballturnier der Jusos Chemnitz (Jusos Chemnitz)
DESCRIPTION:Alle Fussballbegeisterten sind herlich eingeladen. Teilnehmende Mannschaften: Jusos\, Julis\, Junge Union\, Grüne Jugend\, Rote Hochschulgruppe\, Kindervereinigung\, Radio T\, Jesushouse Hilbersdorf\, K-Krew\, Team Mixery\, Jugendclub "M" und FC Landtag.\nJusos Chemnitz\njusos@spd-chemnitz.de
ORGANIZER:MAILTO:diana.richter@s1999.tu-chemnitz.de
UID:7082@www.tu-chemnitz.de
CREATED:20060124T172600Z
DTSTAMP:20210802T195452Z
END:VEVENT
END:VCALENDAR
