BEGIN:VCALENDAR
VERSION:2.0
PRODID:TU Chemnitz
METHOD:PUBLISH
X-WR-CALNAME:Veranstaltungen der TU Chemnitz
X-WR-TIMEZONE:Europe/Berlin
BEGIN:VEVENT
CLASS:PUBLIC
DTSTART;TZID="Europe/Berlin":20060125T210000
DTEND;TZID="Europe/Berlin":20060126T010000
LOCATION:Bunker-Club * Rosenplatz 7 * gleich am Campus
SUMMARY:Live: TV SMITH + GARDEN GANG 
DESCRIPTION:Smith war dabei als der Punk losbrach\, deshalb zog er nach London.\nDer Ex-Frontman der legendären Adverts ist seit den 90ern solo\, gilt er als glänzender Songwriter\, ist cool und politisch zugleich. \nSupport (im besten Sinne): THE GARDEN GANG.\ndoors: 2100
ORGANIZER:MAILTO:schneide@hrz.tu-chemnitz.de
UID:7075@www.tu-chemnitz.de
CREATED:20060124T124700Z
DTSTAMP:20210802T195535Z
END:VEVENT
END:VCALENDAR
