BEGIN:VCALENDAR
VERSION:2.0
PRODID:TU Chemnitz
METHOD:PUBLISH
X-WR-CALNAME:Veranstaltungen der TU Chemnitz
X-WR-TIMEZONE:Europe/Berlin
BEGIN:VEVENT
CLASS:PUBLIC
DTSTART;TZID="Europe/Berlin":20060126T171500
DTEND;TZID="Europe/Berlin":20060126T190000
LOCATION:Str. der Nationen 62\, Chemnitz (Böttcher-Bau)
SUMMARY:Informatik-Kolloquium: Grundlagen des Quantencomputing (Fakultät für Informatik\, Professur Theoretische Informatik)
DESCRIPTION:Prof. Dr. Andreas Goerdt
ORGANIZER:MAILTO:dekanat@informatik.tu-chemnitz.de
UID:7072@www.tu-chemnitz.de
CREATED:20060123T133100Z
DTSTAMP:20210802T195532Z
END:VEVENT
END:VCALENDAR
