BEGIN:VCALENDAR
VERSION:2.0
PRODID:TU Chemnitz
METHOD:PUBLISH
X-WR-CALNAME:Veranstaltungen der TU Chemnitz
X-WR-TIMEZONE:Europe/Berlin
BEGIN:VEVENT
CLASS:PUBLIC
DTSTART;TZID="Europe/Berlin":20060119T214500
DTEND;TZID="Europe/Berlin":20060119T214500
LOCATION:Reichenhainer Str. 55\, Chemnitz (Mensa)
SUMMARY:Filmnacht Matrix 1
DESCRIPTION:Im Anschluss an den Gottesdienst laden wir dich zur Filmnacht ein\, bei der du Matrix 1 sehen kannst.
ORGANIZER:MAILTO:trand@hrz.tu-chemnitz.de
UID:7056@www.tu-chemnitz.de
CREATED:20060116T203100Z
DTSTAMP:20210802T195530Z
END:VEVENT
END:VCALENDAR
