BEGIN:VCALENDAR
VERSION:2.0
PRODID:TU Chemnitz
METHOD:PUBLISH
X-WR-CALNAME:Veranstaltungen der TU Chemnitz
X-WR-TIMEZONE:Europe/Berlin
BEGIN:VEVENT
CLASS:PUBLIC
DTSTART;TZID="Europe/Berlin":20060124T131500
DTEND;TZID="Europe/Berlin":20060124T151500
LOCATION:Str. der Nationen 62\, Chemnitz (Böttcher-Bau)
SUMMARY:Von selbst-aggregierenden Schichten zu organischen\, monomolekularen Isolatoren (Fakultät für Naturwissenschaften\, Institut für Chemie)
DESCRIPTION:--- Achtung! ---\nEs ist eine Änderung von Zeit und Raum ab 20.1.2006 erfolgt.\nPriv.-Doz. Dr. Michael Zharnikov\, Angewandte Physikalische Chemie\, Universität Heidelberg\nProf. Dr. Heinrich Lang\, fon: 371 531-1200\, fax: 371 531-1833\, e-mail: heinrich.lang@chemie.tu-chemnitz.de
ORGANIZER:MAILTO:elke.rahm@chemie.tu-chemnitz.de
UID:7049@www.tu-chemnitz.de
CREATED:20060113T122400Z
DTSTAMP:20210802T195529Z
END:VEVENT
END:VCALENDAR
