BEGIN:VCALENDAR
VERSION:2.0
PRODID:TU Chemnitz
METHOD:PUBLISH
X-WR-CALNAME:Veranstaltungen der TU Chemnitz
X-WR-TIMEZONE:Europe/Berlin
BEGIN:VEVENT
CLASS:PUBLIC
DTSTART;TZID="Europe/Berlin":20060112T203000
DTEND;TZID="Europe/Berlin":20060112T203000
LOCATION:Reichenhainer Str. 55\, Chemnitz (Mensa)
SUMMARY:Unifilm.Chemnitz - Sin City (TaC - Treff am Campus)
DESCRIPTION:Gangster\, Punks\, Huren und verlorene Seelen prägen das Stadtbild von Sin City\, der offiziellen Abschaum-Metropole des Universums. Willkommen in Sin City.\nEinlass: 20.00 Uhr; Beginn: 20.30 Uhr; Eintritt: sparsame 1\,50 €!!
ORGANIZER:MAILTO:frsche@hrz.tu-chemnitz.de
UID:7045@www.tu-chemnitz.de
CREATED:20060112T121900Z
DTSTAMP:20210802T195538Z
END:VEVENT
END:VCALENDAR
