BEGIN:VCALENDAR
VERSION:2.0
PRODID:TU Chemnitz
METHOD:PUBLISH
X-WR-CALNAME:Veranstaltungen der TU Chemnitz
X-WR-TIMEZONE:Europe/Berlin
BEGIN:VEVENT
CLASS:PUBLIC
DTSTART;TZID="Europe/Berlin":20060224T143000
DTEND;TZID="Europe/Berlin":20060224T143000
LOCATION:Reichenhainer Str. 70\, Chemnitz (Rühlmann-Bau)
SUMMARY:Promotion (Fakultät für Maschinenbau)
DESCRIPTION:Die Entwicklung einer Technologie zur Herstellung von Verbundmaterial aus Getreidekleie\nDipl.-Ing. Thomas Rolle
ORGANIZER:MAILTO:kerstin.hense.@mb.tu-chemnitz.de
UID:7034@www.tu-chemnitz.de
CREATED:20060110T105200Z
DTSTAMP:20210802T195507Z
END:VEVENT
END:VCALENDAR
