BEGIN:VCALENDAR
VERSION:2.0
PRODID:TU Chemnitz
METHOD:PUBLISH
X-WR-CALNAME:Veranstaltungen der TU Chemnitz
X-WR-TIMEZONE:Europe/Berlin
BEGIN:VEVENT
CLASS:PUBLIC
DTSTART;TZID="Europe/Berlin":20060121T220000
DTEND;TZID="Europe/Berlin":20060122T060000
LOCATION:Alter Kultursaal Zwickau
SUMMARY:Dont Believe The Hype (Äußere Dresdener Straße 15)
DESCRIPTION:Das Dont Believe The Hype Team wünscht ein erfolgreiches und gesundes neues Jahr!!!Wir würden uns freuen wenn ihr am 21.1.2006 bei unserer neuen Party mit dabei seit…\nBands: Robert and the Roboters\nHigh Voltage ( AC/DC Coverband )
ORGANIZER:MAILTO:jo@web.de
UID:7023@www.tu-chemnitz.de
CREATED:20060108T170400Z
DTSTAMP:20210802T195529Z
END:VEVENT
END:VCALENDAR
