BEGIN:VCALENDAR
VERSION:2.0
PRODID:TU Chemnitz
METHOD:PUBLISH
X-WR-CALNAME:Veranstaltungen der TU Chemnitz
X-WR-TIMEZONE:Europe/Berlin
BEGIN:VEVENT
CLASS:PUBLIC
DTSTART;TZID="Europe/Berlin":20060620T163000
DTEND;TZID="Europe/Berlin":20060620T163000
LOCATION:Erfenschlager Str. 73\, Chemnitz
SUMMARY:Glas - vom klassischen Werkstoff zum High-Tech-Material (Fakultät für Maschinenbau\,  AK Wärmebehandlung und Werkstofftechnik Chemnitz)
DESCRIPTION:Dr. rer. nat. Manfred Krauß\, Fraunhofer Institut für Silikatforschung Würzburg\nUlrich Thieme\, Tel. 3363222\, ulrich.thieme@t-online.de
ORGANIZER:MAILTO:iroe@hrz.tu-chemnitz.de
UID:7010@www.tu-chemnitz.de
CREATED:20060105T155800Z
DTSTAMP:20210802T195311Z
END:VEVENT
END:VCALENDAR
