BEGIN:VCALENDAR
VERSION:2.0
PRODID:TU Chemnitz
METHOD:PUBLISH
X-WR-CALNAME:Veranstaltungen der TU Chemnitz
X-WR-TIMEZONE:Europe/Berlin
BEGIN:VEVENT
CLASS:PUBLIC
DTSTART;TZID="Europe/Berlin":19990923T100000
DTEND;TZID="Europe/Berlin":19990926T180000
LOCATION:Messehallen am Chemnitzer Schloßteich
SUMMARY:VITAL ´99 - 1. Gesundheits-Messe in Chemnitz (Messe-Management Balke-Kaiser)
DESCRIPTION:u.a. Vortrag am 23.09.1999\, 11 Uhr:\nDipl.-Pol. Hans Krappweis\, Forschungsstelle für Regionale\nGesundheitsförderung der TU Chemnitz\n"Gesunde Region Westsachsen - Modell für die Gesundheits-\nförderung in der Region"\n\ninfo@messe-chemnitz.de
ORGANIZER:MAILTO:mstein@hrz.tu-chemnitz.de
UID:699@www.tu-chemnitz.de
CREATED:19990914T170200Z
DTSTAMP:20210802T203331Z
END:VEVENT
END:VCALENDAR
