BEGIN:VCALENDAR
VERSION:2.0
PRODID:TU Chemnitz
METHOD:PUBLISH
X-WR-CALNAME:Veranstaltungen der TU Chemnitz
X-WR-TIMEZONE:Europe/Berlin
BEGIN:VEVENT
CLASS:PUBLIC
DTSTART;TZID="Europe/Berlin":20060207T110000
DTEND;TZID="Europe/Berlin":20060207T140000
LOCATION:Reichenhainer Str. 55\, Chemnitz (Mensa)
SUMMARY:"Tag der Universität" in der Mensa (TU Chemnitz\, Marketing/Öffentlichkeitsarbeit)
DESCRIPTION:Verkauf von Merchandising - Artikel\nVeranstaltungsinformationen\nClaudia Pfeiffer\, Tel. 531-1590\, Enrico Vogel\, Tel. 531-1531
ORGANIZER:MAILTO:iroe@hrz.tu-chemnitz.de
UID:6963@www.tu-chemnitz.de
CREATED:20051221T115600Z
DTSTAMP:20210802T195503Z
END:VEVENT
END:VCALENDAR
