BEGIN:VCALENDAR
VERSION:2.0
PRODID:TU Chemnitz
METHOD:PUBLISH
X-WR-CALNAME:Veranstaltungen der TU Chemnitz
X-WR-TIMEZONE:Europe/Berlin
BEGIN:VEVENT
CLASS:PUBLIC
DTSTART;TZID="Europe/Berlin":20000426T173000
DTEND;TZID="Europe/Berlin":20000426T190000
LOCATION:Uni-Teil 1: Str. der Nationen 62\, Chemnitz (Böttcher-Bau)
SUMMARY:Vortragsreihe Medizin im Spannungsfeld zwischen Wissenschaft und Gesellschaft: "Ganz die Mutter - ganz der Vater... - Biochemische und molekularbiologische Grundlagen der Vererbung" (TU Chemnitz\, Klinikum Chemnitz gGmbH)
DESCRIPTION:Prof. Dr. med. habil. Lothar Beier\, Klinikum Chemnitz gGmbH\nPressestelle\, Tel. 5 31-14 24
ORGANIZER:MAILTO:iroe@hrz.tu-chemnitz.de
UID:696@www.tu-chemnitz.de
CREATED:19990914T105100Z
DTSTAMP:20210802T203114Z
END:VEVENT
END:VCALENDAR
