BEGIN:VCALENDAR
VERSION:2.0
PRODID:TU Chemnitz
METHOD:PUBLISH
X-WR-CALNAME:Veranstaltungen der TU Chemnitz
X-WR-TIMEZONE:Europe/Berlin
BEGIN:VEVENT
CLASS:PUBLIC
DTSTART;TZID="Europe/Berlin":20000329T173000
DTEND;TZID="Europe/Berlin":20000329T190000
LOCATION:Uni-Teil 1: Str. der Nationen 62\, Chemnitz (Böttcher-Bau)
SUMMARY:Vortragsreihe Medizin im Spannungsfeld zwischen Wissenschaft und Gesellschaft: "Keine Angst vor der Narkose"  (TU Chemnitz\, Klinikum Chemnitz gGmbH)
DESCRIPTION:Dr. med. Manfred Kögel\, Klinikum Chemnitz gGmbH\nPressestelle\, Tel. 5 31-14 24
ORGANIZER:MAILTO:iroe@hrz.tu-chemnitz.de
UID:695@www.tu-chemnitz.de
CREATED:19990914T104700Z
DTSTAMP:20210802T203202Z
END:VEVENT
END:VCALENDAR
