BEGIN:VCALENDAR
VERSION:2.0
PRODID:TU Chemnitz
METHOD:PUBLISH
X-WR-CALNAME:Veranstaltungen der TU Chemnitz
X-WR-TIMEZONE:Europe/Berlin
BEGIN:VEVENT
CLASS:PUBLIC
DTSTART;TZID="Europe/Berlin":20051213T193000
DTEND;TZID="Europe/Berlin":20051213T210000
LOCATION:Club der Kulturen (Kompass)
SUMMARY:An Evening with Harold Pinter [Pause]\, Nobel Prize Winner 2005 [Silence] (Anglistische Literaturwissenschaft)
DESCRIPTION:Wir laden herzlich ein zu einem Abend in englischer Sprache\, der ganz dem Leben und Werk des diesjährigen Nobelpreisträgers für Literatur\, Harold Pinter\, gewidmet ist.\nPD Dr. Eckart Voigts-Virchow
ORGANIZER:MAILTO:eckart.voigts-virchow@phil.tu-chemnitz.de
UID:6912@www.tu-chemnitz.de
CREATED:20051201T170300Z
DTSTAMP:20210802T195556Z
END:VEVENT
END:VCALENDAR
