BEGIN:VCALENDAR
VERSION:2.0
PRODID:TU Chemnitz
METHOD:PUBLISH
X-WR-CALNAME:Veranstaltungen der TU Chemnitz
X-WR-TIMEZONE:Europe/Berlin
BEGIN:VEVENT
CLASS:PUBLIC
DTSTART;TZID="Europe/Berlin":20051208T193000
DTEND;TZID="Europe/Berlin":20051208T210000
LOCATION:Reichenhainer Str. 70\, Chemnitz (Weinhold-Bau)
SUMMARY:BERTELSMANN-Stiftung und BERTELSMANN-Konzern: Konzeptlieferanten und Promoter neoliberaler Reformpolitik (RLC Chemnitz)
DESCRIPTION:Mit seinem 20-Milliarden-Umsatz ist der Bertelsmann-Konzern der größte Medienmulti Europas. Der Publizist Hersch Fischler spricht über die Verknüpfung von Konzern und Stiftung bei der Einflussnahme in verschiedenen Politikgebieten.\nHERSCH FISCHLER
ORGANIZER:MAILTO:tet@hrz.tu-chemnitz.de
UID:6909@www.tu-chemnitz.de
CREATED:20051201T132200Z
DTSTAMP:20210802T195604Z
END:VEVENT
END:VCALENDAR
