BEGIN:VCALENDAR
VERSION:2.0
PRODID:TU Chemnitz
METHOD:PUBLISH
X-WR-CALNAME:Veranstaltungen der TU Chemnitz
X-WR-TIMEZONE:Europe/Berlin
BEGIN:VEVENT
CLASS:PUBLIC
DTSTART;TZID="Europe/Berlin":20051201T190000
DTEND;TZID="Europe/Berlin":20051201T210000
LOCATION:Reichenhainer Str. 90\, Chemnitz (Zentr. Hörsaal- und Seminargebäude)
SUMMARY:Braucht ein Weltreich eine Religion? Medien und Funktionen "römischer Reichsreligion" (Philosophische Fakultät\, Professur Antike und Europa)
DESCRIPTION: - WEGEN KRANKHEIT VERSCHOBEN AUF 19.01.2006 -\nProf. Dr. Jörg Rüpke (Universität Erfurt)
ORGANIZER:MAILTO:ralf.ketscher@phil.tu-chemnitz.de
UID:6904@www.tu-chemnitz.de
CREATED:20051129T210500Z
DTSTAMP:20210802T195554Z
END:VEVENT
END:VCALENDAR
